BEGIN:VCALENDAR
VERSION:2.0
PRODID:-//Sous l&#039;écorce - Corinne Wilhelm - ECPv5.4.0.2//NONSGML v1.0//EN
CALSCALE:GREGORIAN
METHOD:PUBLISH
X-WR-CALNAME:Sous l&#039;écorce - Corinne Wilhelm
X-ORIGINAL-URL:https://souslecorce.ch
X-WR-CALDESC:évènements pour Sous l&#039;écorce - Corinne Wilhelm
BEGIN:VTIMEZONE
TZID:Europe/Zurich
BEGIN:DAYLIGHT
TZOFFSETFROM:+0100
TZOFFSETTO:+0200
TZNAME:CEST
DTSTART:20200329T010000
END:DAYLIGHT
BEGIN:STANDARD
TZOFFSETFROM:+0200
TZOFFSETTO:+0100
TZNAME:CET
DTSTART:20201025T010000
END:STANDARD
END:VTIMEZONE
BEGIN:VEVENT
DTSTART;TZID=Europe/Zurich:20200919T100000
DTEND;TZID=Europe/Zurich:20200919T160000
DTSTAMP:20260421T202948
CREATED:20200904T154630Z
LAST-MODIFIED:20200904T155745Z
UID:29288-1600509600-1600531200@souslecorce.ch
SUMMARY:Et si je m’offrais un bain de nature?
DESCRIPTION:Le bain de nature est une promenade en nature qui se vit en conscience afin de se connecter au monde naturel et à soi-même. C’est un moment de détente\, rempli de bienveillance et d’authenticité pour se relier à l’essentiel. \nA travers vos 5 sens\, par des méditations guidées\, des exercices de reconnexion et de respiration\, des moments de Land-art\, de poésie ou de chant\, des instants de partage ou d’introspection. \nLe bain de nature est ouvert à tous et ne demande pas de condition physique particulière. \nVenez vivre la nature autrement…. \nAnimation : Corinne Wilhelm – Sabine Ponti \nBains de nature-Flyer 2020
URL:https://souslecorce.ch/event/et-si-je-moffrais-un-bain-de-nature/
LOCATION:Plagne\, Les Ecovots En haut du village\, Plagne\, 2536\, Suisse
ORGANIZER;CN="Corinne%20Wilhelm%20-%20Sabine%20Ponti":MAILTO:contact@souslecorce.ch
END:VEVENT
END:VCALENDAR