BEGIN:VCALENDAR
VERSION:2.0
PRODID:-//Sous l&#039;écorce - Corinne Wilhelm - ECPv5.4.0.2//NONSGML v1.0//EN
CALSCALE:GREGORIAN
METHOD:PUBLISH
X-WR-CALNAME:Sous l&#039;écorce - Corinne Wilhelm
X-ORIGINAL-URL:https://souslecorce.ch
X-WR-CALDESC:évènements pour Sous l&#039;écorce - Corinne Wilhelm
BEGIN:VTIMEZONE
TZID:Europe/Zurich
BEGIN:DAYLIGHT
TZOFFSETFROM:+0100
TZOFFSETTO:+0200
TZNAME:CEST
DTSTART:20200329T010000
END:DAYLIGHT
BEGIN:STANDARD
TZOFFSETFROM:+0200
TZOFFSETTO:+0100
TZNAME:CET
DTSTART:20201025T010000
END:STANDARD
END:VTIMEZONE
BEGIN:VEVENT
DTSTART;TZID=Europe/Zurich:20201029T180000
DTEND;TZID=Europe/Zurich:20201029T210000
DTSTAMP:20260424T020159
CREATED:20201014T072406Z
LAST-MODIFIED:20201014T072406Z
UID:29308-1603994400-1604005200@souslecorce.ch
SUMMARY:Cercle de femmes
DESCRIPTION:Viens célébrer le nouvel an celtique!\nViens te reconnecter à ta lignée féminine\n\nAu programme (en extérieur\, prévoir des vêtements chauds):\n– Echanges et partages\n– Méditation\n– Ecorituel®\n– Tambour\n– Célébration\nUne soupe chaude sera servie à la fin du cercle.\nAlors que tu sois jeune fille\, femme ou femme sage\, prends ton tambour si tu en as un\, des vêtement chauds et toute ta joie et ta bonne humeur … et viens comme tu es !\n\nCercle de femme-Flyer site internet-Octobre 2020\n\nA bientôt Corinne Wilhelm\n\n\n\nInscription:\ncontact@souslecorce.ch\nMessage WhatsApp 078 775 72 01
URL:https://souslecorce.ch/event/cercle-de-femmes-4/
LOCATION:Les Lagas 121 2536 Plagne\, les Lagas 121\, Plagne\, 2536\, Suisse
ORGANIZER;CN="Corinne%20Wilhelm":MAILTO:contact@souslecorce.ch
END:VEVENT
END:VCALENDAR